BEGIN:VCALENDAR
VERSION:2.0
PRODID:-//FIRST Robotics Team 2059 The Hitchhikers - ECPv6.15.0.1//NONSGML v1.0//EN
CALSCALE:GREGORIAN
METHOD:PUBLISH
X-WR-CALNAME:FIRST Robotics Team 2059 The Hitchhikers
X-ORIGINAL-URL:https://team2059.org
X-WR-CALDESC:Events for FIRST Robotics Team 2059 The Hitchhikers
REFRESH-INTERVAL;VALUE=DURATION:PT1H
X-Robots-Tag:noindex
X-PUBLISHED-TTL:PT1H
BEGIN:VTIMEZONE
TZID:UTC
BEGIN:STANDARD
TZOFFSETFROM:+0000
TZOFFSETTO:+0000
TZNAME:UTC
DTSTART:20260101T000000
END:STANDARD
END:VTIMEZONE
BEGIN:VEVENT
DTSTART;TZID=UTC:20260422T000000
DTEND;TZID=UTC:20260425T000000
DTSTAMP:20260422T011956
CREATED:20260207T181904Z
LAST-MODIFIED:20260207T181904Z
UID:1831-1776816000-1777075200@team2059.org
SUMMARY:FIRST Championship
DESCRIPTION:Team 2059 Hitchhikers will compete at the FIRST Championship in Houston\, Texas\, the ultimate culmination of the robotics season. This international event brings together the top teams from around the globe to celebrate engineering excellence and innovation. We will face off in high-stakes matches\, collaborate with diverse alliance partners\, and showcase our robot’s capabilities on the world stage.
URL:https://team2059.org/event/first-championship/
LOCATION:George R. Brown Convention Center\, 1001 Avenida De Las Americas\, Houston\, TX\, 77010\, United States
END:VEVENT
END:VCALENDAR